BEGIN:VCALENDAR
VERSION:2.0
PRODID:-//Vancouver - ECPv6.15.12.2//NONSGML v1.0//EN
CALSCALE:GREGORIAN
METHOD:PUBLISH
X-WR-CALNAME:Vancouver
X-ORIGINAL-URL:https://revivalfellowship.ca
X-WR-CALDESC:Events for Vancouver
REFRESH-INTERVAL;VALUE=DURATION:PT1H
X-Robots-Tag:noindex
X-PUBLISHED-TTL:PT1H
BEGIN:VTIMEZONE
TZID:UTC
BEGIN:STANDARD
TZOFFSETFROM:+0000
TZOFFSETTO:+0000
TZNAME:UTC
DTSTART:20250101T000000
END:STANDARD
END:VTIMEZONE
BEGIN:VEVENT
DTSTART;VALUE=DATE:20260802
DTEND;VALUE=DATE:20260810
DTSTAMP:20260419T020912
CREATED:20220914T003445Z
LAST-MODIFIED:20260126T214912Z
UID:2770-1785628800-1786319999@revivalfellowship.ca
SUMMARY:Canada Camp 2026
DESCRIPTION:The 2026 capacity for camp is 160. Book your spot early and secure some great fellowship for August 2026.\n\nREGISTER FOR CAMP HERE\n\n\n		\n		\n			\n				\n			\n			\n				\n			\n			\n				\n			\n			\n				\n			\n			\n				\n			\n			\n				\n			\n			\n				\n			\n			\n				\n			\n			\n				\n			\n			\n				\n			\n			\n				\n			\n			\n				\n			\n			\n				\n			\n			\n				\n			\n			\n				\n			\n		\n\n\n\nEntire 2025 Camp Photo Album\n\n2023 Canada Camp Video
URL:https://revivalfellowship.ca/event/loon-lake-summer-camp-2/
LOCATION:Loon Lake\, 14500 Silver Valley Road\, Maple Ridge\, British Columbia\, V4R2R3\, Canada
ATTACH;FMTTYPE=image/jpeg:https://revivalfellowship.ca/wp-content/uploads/2022/09/Messenger_creation_B78D852C-9619-4D8E-9CA8-44E6B16D4FD6.jpeg
END:VEVENT
END:VCALENDAR